BEGIN:VCALENDAR
VERSION:2.0
PRODID:-//Hotell Villa Maritime - Det trevliga hotellet på Marstrandsön - ECPv6.15.20//NONSGML v1.0//EN
CALSCALE:GREGORIAN
METHOD:PUBLISH
X-ORIGINAL-URL:https://hotellvillamaritime.se
X-WR-CALDESC:Events for Hotell Villa Maritime - Det trevliga hotellet på Marstrandsön
REFRESH-INTERVAL;VALUE=DURATION:PT1H
X-Robots-Tag:noindex
X-PUBLISHED-TTL:PT1H
BEGIN:VTIMEZONE
TZID:Europe/Stockholm
BEGIN:DAYLIGHT
TZOFFSETFROM:+0100
TZOFFSETTO:+0200
TZNAME:CEST
DTSTART:20180325T010000
END:DAYLIGHT
BEGIN:STANDARD
TZOFFSETFROM:+0200
TZOFFSETTO:+0100
TZNAME:CET
DTSTART:20181028T010000
END:STANDARD
BEGIN:DAYLIGHT
TZOFFSETFROM:+0100
TZOFFSETTO:+0200
TZNAME:CEST
DTSTART:20190331T010000
END:DAYLIGHT
BEGIN:STANDARD
TZOFFSETFROM:+0200
TZOFFSETTO:+0100
TZNAME:CET
DTSTART:20191027T010000
END:STANDARD
BEGIN:DAYLIGHT
TZOFFSETFROM:+0100
TZOFFSETTO:+0200
TZNAME:CEST
DTSTART:20200329T010000
END:DAYLIGHT
BEGIN:STANDARD
TZOFFSETFROM:+0200
TZOFFSETTO:+0100
TZNAME:CET
DTSTART:20201025T010000
END:STANDARD
BEGIN:DAYLIGHT
TZOFFSETFROM:+0100
TZOFFSETTO:+0200
TZNAME:CEST
DTSTART:20210328T010000
END:DAYLIGHT
BEGIN:STANDARD
TZOFFSETFROM:+0200
TZOFFSETTO:+0100
TZNAME:CET
DTSTART:20211031T010000
END:STANDARD
BEGIN:DAYLIGHT
TZOFFSETFROM:+0100
TZOFFSETTO:+0200
TZNAME:CEST
DTSTART:20220327T010000
END:DAYLIGHT
BEGIN:STANDARD
TZOFFSETFROM:+0200
TZOFFSETTO:+0100
TZNAME:CET
DTSTART:20221030T010000
END:STANDARD
BEGIN:DAYLIGHT
TZOFFSETFROM:+0100
TZOFFSETTO:+0200
TZNAME:CEST
DTSTART:20230326T010000
END:DAYLIGHT
BEGIN:STANDARD
TZOFFSETFROM:+0200
TZOFFSETTO:+0100
TZNAME:CET
DTSTART:20231029T010000
END:STANDARD
BEGIN:DAYLIGHT
TZOFFSETFROM:+0100
TZOFFSETTO:+0200
TZNAME:CEST
DTSTART:20240331T010000
END:DAYLIGHT
BEGIN:STANDARD
TZOFFSETFROM:+0200
TZOFFSETTO:+0100
TZNAME:CET
DTSTART:20241027T010000
END:STANDARD
END:VTIMEZONE
BEGIN:VEVENT
DTSTART;TZID=Europe/Stockholm:20230801T180000
DTEND;TZID=Europe/Stockholm:20230801T213000
DTSTAMP:20260419T170343
CREATED:20230503T142536Z
LAST-MODIFIED:20230615T145008Z
UID:5007-1690912800-1690925400@hotellvillamaritime.se
SUMMARY:Taube-afton med Mats Westling
DESCRIPTION:Välkommen till en unik föreställning på Villa Maritime inför sommarens Taubeföreställningar på Marstrand\nAlbumaktuella artisten Mats Westling tolkar Taube och tar oss med på en musikaliskt resa genom en av historiens största låtskatter. Vi kopplar ihop Evert med Marstrand och äter en tre rätters meny inspirerad av Evert barnbarn Jesper Taube. Musiken varvas med historier och anekdoter. \nSommaren 1922 gör Taube en seglats längs den svenska kusten – från Stockholms ström till norra Bohuslän\, vilket resulterade i prosaboken “På kryss med Ellinor”. Man når fram till Marstrand i augusti och Evert med besättning upplever i Marstrand det som besökare kan få uppleva än idag. \n”Det blev en fest som utav bara farten fortsatte en vecka över den beramade tiden och under veckan tror jag knappt att vi på “Ellinor” någonsin låg mellan lakan. När vi riskerade att somna på stående fot klädde vi av oss\, hoppade i sjön och vilade oss “på saltvatten”. \n \n 
URL:https://hotellvillamaritime.se/evenemang/taube-afton-med-mats-westling-2023-08-01/
LOCATION:Hotell Villa Maritime\, Hamngatan 35\, Marstrand\, Sverige
CATEGORIES:Musik
ATTACH;FMTTYPE=image/jpeg:https://hotellvillamaritime.se/wp-content/uploads/2023/05/liten-evert_02-e1686840589115.jpg
END:VEVENT
BEGIN:VEVENT
DTSTART;TZID=Europe/Stockholm:20230727T190000
DTEND;TZID=Europe/Stockholm:20230727T210000
DTSTAMP:20260419T170343
CREATED:20230612T145317Z
LAST-MODIFIED:20230613T164107Z
UID:5045-1690484400-1690491600@hotellvillamaritime.se
SUMMARY:The British Icons - YaYa Men Deluxe 27/7
DESCRIPTION:The British Icons – YaYa Men Deluxe 27/7  \nhttps://www.tickster.com/sv/events/b1k8jc3ymmz52n5 \nText: \nEn kväll att minnas!\nYaYa Men Deluxe spelar låtar du glömt att du kommer ihåg!\nMusik från de brittiska öarna. Ni kan se fram emot låtar av David Bowie\, Pink Floyd\, Police\, Peter Gabriel\, Van Morrison\, Clapton\, Sting\, The Kinks\, Stones\, Spencer Davis Group\, och såklart Lennon & McCartney. Ihop med mat och dryck i en för kvällen speciellt framtagen meny för 595 :-. \nTake a walk down the memory lane.
URL:https://hotellvillamaritime.se/evenemang/midsommarafton/
END:VEVENT
BEGIN:VEVENT
DTSTART;TZID=Europe/Stockholm:20230725T180000
DTEND;TZID=Europe/Stockholm:20230725T213000
DTSTAMP:20260419T170343
CREATED:20230503T142536Z
LAST-MODIFIED:20230615T145054Z
UID:5006-1690308000-1690320600@hotellvillamaritime.se
SUMMARY:Taube-afton med Mats Westling
DESCRIPTION:Välkommen till en unik föreställning på Villa Maritime inför sommarens Taubeföreställningar på Marstrand\nAlbumaktuella artisten Mats Westling tolkar Taube och tar oss med på en musikaliskt resa genom en av historiens största låtskatter. Vi kopplar ihop Evert med Marstrand och äter en tre rätters meny inspirerad av Evert barnbarn Jesper Taube. Musiken varvas med historier och anekdoter. \nSommaren 1922 gör Taube en seglats längs den svenska kusten – från Stockholms ström till norra Bohuslän\, vilket resulterade i prosaboken “På kryss med Ellinor”. Man når fram till Marstrand i augusti och Evert med besättning upplever i Marstrand det som besökare kan få uppleva än idag. \n”Det blev en fest som utav bara farten fortsatte en vecka över den beramade tiden och under veckan tror jag knappt att vi på “Ellinor” någonsin låg mellan lakan. När vi riskerade att somna på stående fot klädde vi av oss\, hoppade i sjön och vilade oss “på saltvatten”. \n \n 
URL:https://hotellvillamaritime.se/evenemang/taube-afton-med-mats-westling-2023-07-25/
LOCATION:Hotell Villa Maritime\, Hamngatan 35\, Marstrand\, Sverige
CATEGORIES:Musik
ATTACH;FMTTYPE=image/jpeg:https://hotellvillamaritime.se/wp-content/uploads/2023/05/liten-evert_02-e1686840589115.jpg
END:VEVENT
BEGIN:VEVENT
DTSTART;TZID=Europe/Stockholm:20230720T190000
DTEND;TZID=Europe/Stockholm:20230720T210000
DTSTAMP:20260419T170343
CREATED:20230613T164520Z
LAST-MODIFIED:20230613T165630Z
UID:5066-1689879600-1689886800@hotellvillamaritime.se
SUMMARY:Really Dan 20/7
DESCRIPTION:Really Dan 20/7 \nhttps://www.tickster.com/sv/events/pcwjlu4rxngewg4 \nText: \nReally Dan spelar det bästa av Steely Dan. \nOm du gillar Steely Dan kommer du att älska Really Dan. Många som sett bandet tycker att det t.o.m. låter bättre än originalet….nåja det kanske är att överdriva\, men det blir inte mycket bättre än så här om man tycker om Steely Dan och vill höra deras låtar “live”. Bandet har handplockat det bästa ur Donald Fagen & Walter Beckers låtskatt. Lyssna och njut. Detta serveras ihop med en specialmeny för kvällen. Paketpris 595:- för mat\, dryck och musikavgift.
URL:https://hotellvillamaritime.se/evenemang/really-dan-20-7/
END:VEVENT
BEGIN:VEVENT
DTSTART;TZID=Europe/Stockholm:20230718T180000
DTEND;TZID=Europe/Stockholm:20230718T213000
DTSTAMP:20260419T170343
CREATED:20230503T142536Z
LAST-MODIFIED:20230615T145053Z
UID:5005-1689703200-1689715800@hotellvillamaritime.se
SUMMARY:Taube-afton med Mats Westling
DESCRIPTION:Välkommen till en unik föreställning på Villa Maritime inför sommarens Taubeföreställningar på Marstrand\nAlbumaktuella artisten Mats Westling tolkar Taube och tar oss med på en musikaliskt resa genom en av historiens största låtskatter. Vi kopplar ihop Evert med Marstrand och äter en tre rätters meny inspirerad av Evert barnbarn Jesper Taube. Musiken varvas med historier och anekdoter. \nSommaren 1922 gör Taube en seglats längs den svenska kusten – från Stockholms ström till norra Bohuslän\, vilket resulterade i prosaboken “På kryss med Ellinor”. Man når fram till Marstrand i augusti och Evert med besättning upplever i Marstrand det som besökare kan få uppleva än idag. \n”Det blev en fest som utav bara farten fortsatte en vecka över den beramade tiden och under veckan tror jag knappt att vi på “Ellinor” någonsin låg mellan lakan. När vi riskerade att somna på stående fot klädde vi av oss\, hoppade i sjön och vilade oss “på saltvatten”. \n \n 
URL:https://hotellvillamaritime.se/evenemang/taube-afton-med-mats-westling-2023-07-18/
LOCATION:Hotell Villa Maritime\, Hamngatan 35\, Marstrand\, Sverige
CATEGORIES:Musik
ATTACH;FMTTYPE=image/jpeg:https://hotellvillamaritime.se/wp-content/uploads/2023/05/liten-evert_02-e1686840589115.jpg
END:VEVENT
BEGIN:VEVENT
DTSTART;TZID=Europe/Stockholm:20230711T180000
DTEND;TZID=Europe/Stockholm:20230711T213000
DTSTAMP:20260419T170343
CREATED:20230503T142536Z
LAST-MODIFIED:20230615T145052Z
UID:5004-1689098400-1689111000@hotellvillamaritime.se
SUMMARY:Taube-afton med Mats Westling
DESCRIPTION:Välkommen till en unik föreställning på Villa Maritime inför sommarens Taubeföreställningar på Marstrand\nAlbumaktuella artisten Mats Westling tolkar Taube och tar oss med på en musikaliskt resa genom en av historiens största låtskatter. Vi kopplar ihop Evert med Marstrand och äter en tre rätters meny inspirerad av Evert barnbarn Jesper Taube. Musiken varvas med historier och anekdoter. \nSommaren 1922 gör Taube en seglats längs den svenska kusten – från Stockholms ström till norra Bohuslän\, vilket resulterade i prosaboken “På kryss med Ellinor”. Man når fram till Marstrand i augusti och Evert med besättning upplever i Marstrand det som besökare kan få uppleva än idag. \n”Det blev en fest som utav bara farten fortsatte en vecka över den beramade tiden och under veckan tror jag knappt att vi på “Ellinor” någonsin låg mellan lakan. När vi riskerade att somna på stående fot klädde vi av oss\, hoppade i sjön och vilade oss “på saltvatten”. \n \n 
URL:https://hotellvillamaritime.se/evenemang/taube-afton-med-mats-westling-2023-07-11/
LOCATION:Hotell Villa Maritime\, Hamngatan 35\, Marstrand\, Sverige
CATEGORIES:Musik
ATTACH;FMTTYPE=image/jpeg:https://hotellvillamaritime.se/wp-content/uploads/2023/05/liten-evert_02-e1686840589115.jpg
END:VEVENT
BEGIN:VEVENT
DTSTART;TZID=Europe/Stockholm:20230708T170000
DTEND;TZID=Europe/Stockholm:20230708T200000
DTSTAMP:20260419T170343
CREATED:20230613T165002Z
LAST-MODIFIED:20230613T165002Z
UID:5071-1688835600-1688846400@hotellvillamaritime.se
SUMMARY:Partypatrullen
DESCRIPTION:
URL:https://hotellvillamaritime.se/evenemang/partypatrullen-7/
END:VEVENT
BEGIN:VEVENT
DTSTART;TZID=Europe/Stockholm:20230707T170000
DTEND;TZID=Europe/Stockholm:20230707T200000
DTSTAMP:20260419T170343
CREATED:20230613T164740Z
LAST-MODIFIED:20230613T164740Z
UID:5068-1688749200-1688760000@hotellvillamaritime.se
SUMMARY:Partypatrullen
DESCRIPTION:
URL:https://hotellvillamaritime.se/evenemang/partypatrullen-6/
END:VEVENT
BEGIN:VEVENT
DTSTART;TZID=Europe/Stockholm:20230706T190000
DTEND;TZID=Europe/Stockholm:20230706T210000
DTSTAMP:20260419T170343
CREATED:20230613T165137Z
LAST-MODIFIED:20230613T165911Z
UID:5073-1688670000-1688677200@hotellvillamaritime.se
SUMMARY:Prime
DESCRIPTION:
URL:https://hotellvillamaritime.se/evenemang/prime-2/
END:VEVENT
BEGIN:VEVENT
DTSTART;TZID=Europe/Stockholm:20230704T180000
DTEND;TZID=Europe/Stockholm:20230704T213000
DTSTAMP:20260419T170343
CREATED:20230503T142536Z
LAST-MODIFIED:20230615T145052Z
UID:4998-1688493600-1688506200@hotellvillamaritime.se
SUMMARY:Taube-afton med Mats Westling
DESCRIPTION:Välkommen till en unik föreställning på Villa Maritime inför sommarens Taubeföreställningar på Marstrand\nAlbumaktuella artisten Mats Westling tolkar Taube och tar oss med på en musikaliskt resa genom en av historiens största låtskatter. Vi kopplar ihop Evert med Marstrand och äter en tre rätters meny inspirerad av Evert barnbarn Jesper Taube. Musiken varvas med historier och anekdoter. \nSommaren 1922 gör Taube en seglats längs den svenska kusten – från Stockholms ström till norra Bohuslän\, vilket resulterade i prosaboken “På kryss med Ellinor”. Man når fram till Marstrand i augusti och Evert med besättning upplever i Marstrand det som besökare kan få uppleva än idag. \n”Det blev en fest som utav bara farten fortsatte en vecka över den beramade tiden och under veckan tror jag knappt att vi på “Ellinor” någonsin låg mellan lakan. När vi riskerade att somna på stående fot klädde vi av oss\, hoppade i sjön och vilade oss “på saltvatten”. \n \n 
URL:https://hotellvillamaritime.se/evenemang/taube-afton-med-mats-westling/
LOCATION:Hotell Villa Maritime\, Hamngatan 35\, Marstrand\, Sverige
CATEGORIES:Musik
ATTACH;FMTTYPE=image/jpeg:https://hotellvillamaritime.se/wp-content/uploads/2023/05/liten-evert_02-e1686840589115.jpg
END:VEVENT
BEGIN:VEVENT
DTSTART;TZID=Europe/Stockholm:20230701T210000
DTEND;TZID=Europe/Stockholm:20230701T210000
DTSTAMP:20260419T170343
CREATED:20230620T152207Z
LAST-MODIFIED:20230620T152207Z
UID:5089-1688245200-1688245200@hotellvillamaritime.se
SUMMARY:Dans Dans Dans
DESCRIPTION:Tillståndskravet upphör\, Vi firar med DJ TOBBE från kl 2100-0300
URL:https://hotellvillamaritime.se/evenemang/dans-dans-dans/
END:VEVENT
BEGIN:VEVENT
DTSTART;VALUE=DATE:20210511
DTEND;VALUE=DATE:20210514
DTSTAMP:20260419T170343
CREATED:20210510T074909Z
LAST-MODIFIED:20210510T074909Z
UID:4079-1620691200-1620950399@hotellvillamaritime.se
SUMMARY:Test
DESCRIPTION:Test
URL:https://hotellvillamaritime.se/evenemang/test/
CATEGORIES:Musik
END:VEVENT
BEGIN:VEVENT
DTSTART;VALUE=DATE:20200106
DTEND;VALUE=DATE:20200107
DTSTAMP:20260419T170343
CREATED:20190521T190633Z
LAST-MODIFIED:20190521T190633Z
UID:3362-1578268800-1578355199@hotellvillamaritime.se
SUMMARY:13 Dagen På Hotell Villa Maritime
DESCRIPTION:
URL:https://hotellvillamaritime.se/evenemang/13-dagen-pa-hotell-villa-maritime/
END:VEVENT
BEGIN:VEVENT
DTSTART;VALUE=DATE:20191231
DTEND;VALUE=DATE:20200101
DTSTAMP:20260419T170343
CREATED:20190521T190345Z
LAST-MODIFIED:20190521T191512Z
UID:3360-1577750400-1577836799@hotellvillamaritime.se
SUMMARY:Nyårsfirande På Hotell Villa Maritime
DESCRIPTION:
URL:https://hotellvillamaritime.se/evenemang/31-12-nyarsfirande-pa-hotell-villa-maritime/
END:VEVENT
BEGIN:VEVENT
DTSTART;TZID=Europe/Stockholm:20191130T080000
DTEND;TZID=Europe/Stockholm:20191201T170000
DTSTAMP:20260419T170343
CREATED:20190521T190236Z
LAST-MODIFIED:20190521T190236Z
UID:3358-1575100800-1575219600@hotellvillamaritime.se
SUMMARY:Frostbite (C55\, CB66\, J70)
DESCRIPTION:
URL:https://hotellvillamaritime.se/evenemang/frostbite-c55-cb66-j70/
END:VEVENT
BEGIN:VEVENT
DTSTART;TZID=Europe/Stockholm:20191115T080000
DTEND;TZID=Europe/Stockholm:20191221T170000
DTSTAMP:20260419T170343
CREATED:20190521T190151Z
LAST-MODIFIED:20190521T190151Z
UID:3356-1573804800-1576947600@hotellvillamaritime.se
SUMMARY:Julbordspremiär på Hotell Villa Maritime
DESCRIPTION:
URL:https://hotellvillamaritime.se/evenemang/julbordspremiar-pa-hotell-villa-maritime/
END:VEVENT
BEGIN:VEVENT
DTSTART;TZID=Europe/Stockholm:20191108T080000
DTEND;TZID=Europe/Stockholm:20191110T170000
DTSTAMP:20260419T170343
CREATED:20190521T190016Z
LAST-MODIFIED:20190521T190027Z
UID:3353-1573200000-1573405200@hotellvillamaritime.se
SUMMARY:Julmässa på Carlstens fästning
DESCRIPTION:
URL:https://hotellvillamaritime.se/evenemang/8-10-november-julmassa-pa-carlstens-fastning/
END:VEVENT
BEGIN:VEVENT
DTSTART;TZID=Europe/Stockholm:20191012T080000
DTEND;TZID=Europe/Stockholm:20191013T170000
DTSTAMP:20260419T170343
CREATED:20190521T185909Z
LAST-MODIFIED:20190521T185909Z
UID:3351-1570867200-1570986000@hotellvillamaritime.se
SUMMARY:Mästarnas Mästare
DESCRIPTION:
URL:https://hotellvillamaritime.se/evenemang/mastarnas-mastare-2/
END:VEVENT
BEGIN:VEVENT
DTSTART;TZID=Europe/Stockholm:20190921T080000
DTEND;TZID=Europe/Stockholm:20190922T170000
DTSTAMP:20260419T170343
CREATED:20190521T185829Z
LAST-MODIFIED:20190521T185829Z
UID:3349-1569052800-1569171600@hotellvillamaritime.se
SUMMARY:Laser GP-SM Krona-80 Laser-30 Kona
DESCRIPTION:
URL:https://hotellvillamaritime.se/evenemang/laser-gp-sm-krona-80-laser-30-kona/
END:VEVENT
BEGIN:VEVENT
DTSTART;TZID=Europe/Stockholm:20190831T080000
DTEND;TZID=Europe/Stockholm:20190901T170000
DTSTAMP:20260419T170343
CREATED:20190521T185532Z
LAST-MODIFIED:20190521T185651Z
UID:3344-1567238400-1567357200@hotellvillamaritime.se
SUMMARY:EM R12
DESCRIPTION:
URL:https://hotellvillamaritime.se/evenemang/30-aug-1-sep-em-r12/
END:VEVENT
BEGIN:VEVENT
DTSTART;TZID=Europe/Stockholm:20190823T080000
DTEND;TZID=Europe/Stockholm:20190825T170000
DTSTAMP:20260419T170343
CREATED:20190521T185735Z
LAST-MODIFIED:20190521T185735Z
UID:3347-1566547200-1566752400@hotellvillamaritime.se
SUMMARY:BÅTMÄSSAN
DESCRIPTION:
URL:https://hotellvillamaritime.se/evenemang/batmassan/
END:VEVENT
BEGIN:VEVENT
DTSTART;TZID=Europe/Stockholm:20190803T080000
DTEND;TZID=Europe/Stockholm:20190803T170000
DTSTAMP:20260419T170343
CREATED:20190521T185439Z
LAST-MODIFIED:20190521T185457Z
UID:3341-1564819200-1564851600@hotellvillamaritime.se
SUMMARY:Marstrandsdagen
DESCRIPTION:
URL:https://hotellvillamaritime.se/evenemang/3-augusti-marstrandsdagen/
END:VEVENT
BEGIN:VEVENT
DTSTART;TZID=Europe/Stockholm:20190801T080000
DTEND;TZID=Europe/Stockholm:20190804T170000
DTSTAMP:20260419T170343
CREATED:20190521T185352Z
LAST-MODIFIED:20190521T191554Z
UID:3339-1564646400-1564938000@hotellvillamaritime.se
SUMMARY:Finn jolle/OK jolle SM
DESCRIPTION:
URL:https://hotellvillamaritime.se/evenemang/1-4-aug-finn-jolle-ok-jolle-sm/
END:VEVENT
BEGIN:VEVENT
DTSTART;TZID=Europe/Stockholm:20190724T180000
DTEND;TZID=Europe/Stockholm:20190724T220000
DTSTAMP:20260419T170343
CREATED:20190702T072034Z
LAST-MODIFIED:20190702T072211Z
UID:3470-1563991200-1564005600@hotellvillamaritime.se
SUMMARY:Joe Labero Magic Master med utsökt 3-rätters middag Pris 1195:- pp
DESCRIPTION:PÅ HOTELL VILLA MARITIME PÅ MARSTRANDSÖN \nBiljetter köps via e-post till info@villa-maritime. se eller i vår reception 0303-61025
URL:https://hotellvillamaritime.se/evenemang/joe-labero-magic-master-med-3-ratters-middag-pris-1195-pp/
END:VEVENT
BEGIN:VEVENT
DTSTART;TZID=Europe/Stockholm:20190709T080000
DTEND;TZID=Europe/Stockholm:20190713T170000
DTSTAMP:20260419T170343
CREATED:20181109T075049Z
LAST-MODIFIED:20181109T075049Z
UID:3114-1562659200-1563037200@hotellvillamaritime.se
SUMMARY:RC44 Sweden Cup 2019
DESCRIPTION:
URL:https://hotellvillamaritime.se/evenemang/rc44-sweden-cup-2019/
END:VEVENT
BEGIN:VEVENT
DTSTART;TZID=Europe/Stockholm:20190704T080000
DTEND;TZID=Europe/Stockholm:20190824T170000
DTSTAMP:20260419T170343
CREATED:20190521T190927Z
LAST-MODIFIED:20190521T190927Z
UID:3364-1562227200-1566666000@hotellvillamaritime.se
SUMMARY:Marstrandsfånge nr 90 Kleist Stefan Andersson
DESCRIPTION:
URL:https://hotellvillamaritime.se/evenemang/marstrandsfange-nr-90-kleist-stefan-andersson/
END:VEVENT
BEGIN:VEVENT
DTSTART;TZID=Europe/Stockholm:20190703T080000
DTEND;TZID=Europe/Stockholm:20190707T170000
DTSTAMP:20260419T170343
CREATED:20181109T075321Z
LAST-MODIFIED:20181109T075321Z
UID:3116-1562140800-1562518800@hotellvillamaritime.se
SUMMARY:GKSS Match Cup Sweden
DESCRIPTION:
URL:https://hotellvillamaritime.se/evenemang/gkss-match-cup-sweden/
END:VEVENT
BEGIN:VEVENT
DTSTART;TZID=Europe/Stockholm:20190703T080000
DTEND;TZID=Europe/Stockholm:20190706T170000
DTSTAMP:20260419T170343
CREATED:20190521T185205Z
LAST-MODIFIED:20190521T185205Z
UID:3337-1562140800-1562432400@hotellvillamaritime.se
SUMMARY:JR Cup
DESCRIPTION:
URL:https://hotellvillamaritime.se/evenemang/jr-cup/
END:VEVENT
BEGIN:VEVENT
DTSTART;TZID=Europe/Stockholm:20190614T080000
DTEND;TZID=Europe/Stockholm:20190615T170000
DTSTAMP:20260419T170343
CREATED:20190521T185025Z
LAST-MODIFIED:20190521T185025Z
UID:3335-1560499200-1560618000@hotellvillamaritime.se
SUMMARY:Midsummer Solo Challenge
DESCRIPTION:
URL:https://hotellvillamaritime.se/evenemang/midsummer-solo-challenge/
END:VEVENT
BEGIN:VEVENT
DTSTART;TZID=Europe/Stockholm:20190608T080000
DTEND;TZID=Europe/Stockholm:20190609T170000
DTSTAMP:20260419T170343
CREATED:20190521T184942Z
LAST-MODIFIED:20190521T184942Z
UID:3333-1559980800-1560099600@hotellvillamaritime.se
SUMMARY:Apply Emtunga Cup (Drake\, J70\, Melges)
DESCRIPTION:
URL:https://hotellvillamaritime.se/evenemang/apply-emtunga-cup-drake-j70-melges/
END:VEVENT
END:VCALENDAR