BEGIN:VCALENDAR
VERSION:2.0
PRODID:-//Hotell Villa Maritime - Det trevliga hotellet på Marstrandsön - ECPv6.15.20//NONSGML v1.0//EN
CALSCALE:GREGORIAN
METHOD:PUBLISH
X-WR-CALNAME:Hotell Villa Maritime - Det trevliga hotellet på Marstrandsön
X-ORIGINAL-URL:https://hotellvillamaritime.se
X-WR-CALDESC:Events for Hotell Villa Maritime - Det trevliga hotellet på Marstrandsön
REFRESH-INTERVAL;VALUE=DURATION:PT1H
X-Robots-Tag:noindex
X-PUBLISHED-TTL:PT1H
BEGIN:VTIMEZONE
TZID:Europe/Stockholm
BEGIN:DAYLIGHT
TZOFFSETFROM:+0100
TZOFFSETTO:+0200
TZNAME:CEST
DTSTART:20170326T010000
END:DAYLIGHT
BEGIN:STANDARD
TZOFFSETFROM:+0200
TZOFFSETTO:+0100
TZNAME:CET
DTSTART:20171029T010000
END:STANDARD
BEGIN:DAYLIGHT
TZOFFSETFROM:+0100
TZOFFSETTO:+0200
TZNAME:CEST
DTSTART:20180325T010000
END:DAYLIGHT
BEGIN:STANDARD
TZOFFSETFROM:+0200
TZOFFSETTO:+0100
TZNAME:CET
DTSTART:20181028T010000
END:STANDARD
BEGIN:DAYLIGHT
TZOFFSETFROM:+0100
TZOFFSETTO:+0200
TZNAME:CEST
DTSTART:20190331T010000
END:DAYLIGHT
BEGIN:STANDARD
TZOFFSETFROM:+0200
TZOFFSETTO:+0100
TZNAME:CET
DTSTART:20191027T010000
END:STANDARD
BEGIN:DAYLIGHT
TZOFFSETFROM:+0100
TZOFFSETTO:+0200
TZNAME:CEST
DTSTART:20200329T010000
END:DAYLIGHT
BEGIN:STANDARD
TZOFFSETFROM:+0200
TZOFFSETTO:+0100
TZNAME:CET
DTSTART:20201025T010000
END:STANDARD
END:VTIMEZONE
BEGIN:VEVENT
DTSTART;TZID=Europe/Stockholm:20190601T080000
DTEND;TZID=Europe/Stockholm:20190602T170000
DTSTAMP:20260419T222835
CREATED:20190521T184850Z
LAST-MODIFIED:20190521T184850Z
UID:3331-1559376000-1559494800@hotellvillamaritime.se
SUMMARY:Sillens Helg
DESCRIPTION:
URL:https://hotellvillamaritime.se/evenemang/sillens-helg-3/
END:VEVENT
BEGIN:VEVENT
DTSTART;TZID=Europe/Stockholm:20190601T080000
DTEND;TZID=Europe/Stockholm:20190602T170000
DTSTAMP:20260419T222835
CREATED:20181108T104813Z
LAST-MODIFIED:20181108T104813Z
UID:3108-1559376000-1559494800@hotellvillamaritime.se
SUMMARY:Marstrand Big Boat Race-BLUR
DESCRIPTION:
URL:https://hotellvillamaritime.se/evenemang/marstrand-big-boat-race-blur/
END:VEVENT
BEGIN:VEVENT
DTSTART;TZID=Europe/Stockholm:20190529T080000
DTEND;TZID=Europe/Stockholm:20190529T170000
DTSTAMP:20260419T222835
CREATED:20190521T184706Z
LAST-MODIFIED:20190521T191634Z
UID:3328-1559116800-1559149200@hotellvillamaritime.se
SUMMARY:Skagen Race
DESCRIPTION:
URL:https://hotellvillamaritime.se/evenemang/29-maj-skagen-race/
END:VEVENT
BEGIN:VEVENT
DTSTART;TZID=Europe/Stockholm:20190329T080000
DTEND;TZID=Europe/Stockholm:20190331T170000
DTSTAMP:20260419T222835
CREATED:20181109T074823Z
LAST-MODIFIED:20181109T074830Z
UID:3112-1553846400-1554051600@hotellvillamaritime.se
SUMMARY:Stickfest i Väst
DESCRIPTION:
URL:https://hotellvillamaritime.se/evenemang/stickfest-i-vast-2/
END:VEVENT
BEGIN:VEVENT
DTSTART;TZID=Europe/Stockholm:20190105T180000
DTEND;TZID=Europe/Stockholm:20190105T180000
DTSTAMP:20260419T222835
CREATED:20181214T084751Z
LAST-MODIFIED:20181214T084759Z
UID:3134-1546711200-1546711200@hotellvillamaritime.se
SUMMARY:Trettondagsfest
DESCRIPTION:
URL:https://hotellvillamaritime.se/evenemang/trettondagsfest/
END:VEVENT
BEGIN:VEVENT
DTSTART;TZID=Europe/Stockholm:20181215T193000
DTEND;TZID=Europe/Stockholm:20181215T193000
DTSTAMP:20260419T222835
CREATED:20181214T084458Z
LAST-MODIFIED:20181214T084458Z
UID:3132-1544902200-1544902200@hotellvillamaritime.se
SUMMARY:Luciatåg från Marstrandsskolan
DESCRIPTION:
URL:https://hotellvillamaritime.se/evenemang/luciatag-fran-marstrandsskolan/
END:VEVENT
BEGIN:VEVENT
DTSTART;TZID=Europe/Stockholm:20181201T080000
DTEND;TZID=Europe/Stockholm:20181202T170000
DTSTAMP:20260419T222835
CREATED:20181109T075639Z
LAST-MODIFIED:20181109T075646Z
UID:3118-1543651200-1543770000@hotellvillamaritime.se
SUMMARY:Frostbite
DESCRIPTION:
URL:https://hotellvillamaritime.se/evenemang/frostbite-2/
END:VEVENT
BEGIN:VEVENT
DTSTART;TZID=Europe/Stockholm:20181109T190000
DTEND;TZID=Europe/Stockholm:20181110T030000
DTSTAMP:20260419T222835
CREATED:20181105T114111Z
LAST-MODIFIED:20181105T114124Z
UID:3104-1541790000-1541818800@hotellvillamaritime.se
SUMMARY:Inlands Pubkväll
DESCRIPTION:Inlands Pubkväll\, på fredag 9 november i Villa Maritime om Porto Franco med Putte Hedin som berättar om livet och människorna på den tiden. Trubadur Tomas Larsson spelar Bellman\, Taube och Vreeswijk. Några av Inlands gänget är på plats och vi tappar vår Porter Porto Franco och även Lasse Maja Lager. Alla våra ölsorter finns i baren. \nBuffé i Cajsa Wargs anda\, som stekt ankbröst med körsbärsås och hennes äppelkaka med lättvispad punschgrädde som avslutning. Pris för maten 410:- per person. Reservera gärna bord på 0303 61025 eller via vår hemsida . Gratis entré.
URL:https://hotellvillamaritime.se/evenemang/inlands-pubkvall/
END:VEVENT
BEGIN:VEVENT
DTSTART;TZID=Europe/Stockholm:20181108T110000
DTEND;TZID=Europe/Stockholm:20181111T160000
DTSTAMP:20260419T222835
CREATED:20181108T105134Z
LAST-MODIFIED:20181108T105147Z
UID:3110-1541674800-1541952000@hotellvillamaritime.se
SUMMARY:Jul på Carlstens fästning
DESCRIPTION:Öppet: Torsdag 11–19\, fredag-lördag 10-18\, söndag 10–16\nEntré: 80:-/pers\, barn under 12 år\nfri entré i målsmans sällskap. \nMedtag gärna kontanter när ni ska handla av utställarna pga dålig täckning innanför murarna. \nVälkommen till jul på Carlstens fästning i vackra Marstrand\nCarlstens fästning börjades byggas under andra hälften av 1600-talet och var i bruk som fästningsverk ända fram till 1882 då den upphörde att höra till det fasta försvaret. Fästningen fortsatte att användas av försvaret på olika sätt fram tills 1993 då kustspaningsradarn i Karlstenstornet togs bort. \nUnder lång tid fanns det fångar på fästningen där den mest kända är Lasse-Maja som hölls fången i 26 år.\nDom sista fångarna lämnade Marstrand 1888. \nUnder den andra helgen i november står de svenska jultraditionerna i centrum på Carlstens fästning. I dagarna tre arrangeras här julmässa. Hela fästningen kläs i julskrud när området pryds av juldekorationer och lyses upp av marschaller. \nPå mässan möter du flera av landets bästa hantverkare. Det är ett unikt tillfälle att ta del av kvalitetshantverk i alla dess former. Smeder\, halmslöjdare\, keramiker\, textilhantverkare\, träslöjdare och mathantverkare ställer ut sina egentillverkade alster. Chansen att hitta en och annan julklapp är stor. Alstren köps direkt av hantverkaren utan fördyrande mellanhänder. \nMatboden är en attraktion för flera sinnen. Dofter\, smaker\, ljud och ljus samsas om din uppmärksamhet\, passa på att provsmaka! I matboden finns allt för julbordet. Nykokt glögg\, hemmagjort godis och nybakat bröd är bara några av alla delikatesser som leder dig till matboden. \nMissa inte ett besök på cafét eller restaurangen som håller öppet under mässan\,. \nVälkommen till julmässan på Carlstens fästning. Ett utmärkt tillfälle att umgås\, ha trevligt och tänka framåt på vår kanske käraste högtid – julen.
URL:https://hotellvillamaritime.se/evenemang/jul-pa-carlstens-fastning/
END:VEVENT
BEGIN:VEVENT
DTSTART;TZID=Europe/Stockholm:20180907T180000
DTEND;TZID=Europe/Stockholm:20180907T180000
DTSTAMP:20260419T222835
CREATED:20180222T103043Z
LAST-MODIFIED:20180222T103043Z
UID:2757-1536343200-1536343200@hotellvillamaritime.se
SUMMARY:Afterwork med Inlands Bryggeri
DESCRIPTION:”Det goda består”
URL:https://hotellvillamaritime.se/evenemang/afterwork-med-inlands-bryggeri-4/
END:VEVENT
BEGIN:VEVENT
DTSTART;TZID=Europe/Stockholm:20180824T080000
DTEND;TZID=Europe/Stockholm:20180826T170000
DTSTAMP:20260419T222835
CREATED:20180221T110413Z
LAST-MODIFIED:20180221T110413Z
UID:2755-1535097600-1535302800@hotellvillamaritime.se
SUMMARY:Marstrand Boat Show 2018
DESCRIPTION:Västkustens största flytande båtmässa
URL:https://hotellvillamaritime.se/evenemang/marstrand-boat-show-2018/
END:VEVENT
BEGIN:VEVENT
DTSTART;TZID=Europe/Stockholm:20180817T080000
DTEND;TZID=Europe/Stockholm:20180819T170000
DTSTAMP:20260419T222835
CREATED:20180204T085412Z
LAST-MODIFIED:20180204T085412Z
UID:2716-1534492800-1534698000@hotellvillamaritime.se
SUMMARY:Sekelskiftesdagarna i Marstrand
DESCRIPTION:
URL:https://hotellvillamaritime.se/evenemang/sekelskiftesdagarna-i-marstrand/
END:VEVENT
BEGIN:VEVENT
DTSTART;TZID=Europe/Stockholm:20180704T080000
DTEND;TZID=Europe/Stockholm:20180708T170000
DTSTAMP:20260419T222835
CREATED:20180126T103324Z
LAST-MODIFIED:20180126T103324Z
UID:2612-1530691200-1531069200@hotellvillamaritime.se
SUMMARY:Match Cup Sweden 2018
DESCRIPTION:
URL:https://hotellvillamaritime.se/evenemang/match-cup-sweden-2018/
END:VEVENT
BEGIN:VEVENT
DTSTART;TZID=Europe/Stockholm:20180627T080000
DTEND;TZID=Europe/Stockholm:20180701T170000
DTSTAMP:20260419T222835
CREATED:20180126T103825Z
LAST-MODIFIED:20180126T103825Z
UID:2614-1530086400-1530464400@hotellvillamaritime.se
SUMMARY:RC44 CLASS EVENT MARSTRAND
DESCRIPTION:  \n 
URL:https://hotellvillamaritime.se/evenemang/rc44-class-event-marstrand/
END:VEVENT
BEGIN:VEVENT
DTSTART;TZID=Europe/Stockholm:20180602T080000
DTEND;TZID=Europe/Stockholm:20180603T170000
DTSTAMP:20260419T222835
CREATED:20180204T090215Z
LAST-MODIFIED:20180204T090215Z
UID:2718-1527926400-1528045200@hotellvillamaritime.se
SUMMARY:Sillens Helg
DESCRIPTION:
URL:https://hotellvillamaritime.se/evenemang/sillens-helg/
END:VEVENT
BEGIN:VEVENT
DTSTART;TZID=Europe/Stockholm:20180601T180000
DTEND;TZID=Europe/Stockholm:20180602T000000
DTSTAMP:20260419T222835
CREATED:20180221T094342Z
LAST-MODIFIED:20180221T094342Z
UID:2753-1527876000-1527897600@hotellvillamaritime.se
SUMMARY:Afterwork med Inlands Bryggeri
DESCRIPTION:”Det goda består”
URL:https://hotellvillamaritime.se/evenemang/afterwork-med-inlands-bryggeri-3/
END:VEVENT
BEGIN:VEVENT
DTSTART;TZID=Europe/Stockholm:20180526T190000
DTEND;TZID=Europe/Stockholm:20180526T190000
DTSTAMP:20260419T222835
CREATED:20180126T110311Z
LAST-MODIFIED:20180126T110311Z
UID:2622-1527361200-1527361200@hotellvillamaritime.se
SUMMARY:Vårbalen på Societetshuset Marstrand
DESCRIPTION:
URL:https://hotellvillamaritime.se/evenemang/varbalen-pa-societetshuset-marstrand/
END:VEVENT
BEGIN:VEVENT
DTSTART;TZID=Europe/Stockholm:20180525T080000
DTEND;TZID=Europe/Stockholm:20180527T170000
DTSTAMP:20260419T222835
CREATED:20180126T104557Z
LAST-MODIFIED:20180126T104557Z
UID:2617-1527235200-1527440400@hotellvillamaritime.se
SUMMARY:MARSTRAND BIG BOAT RACE 2018
DESCRIPTION:
URL:https://hotellvillamaritime.se/evenemang/marstrand-big-boat-race-2018/
END:VEVENT
BEGIN:VEVENT
DTSTART;TZID=Europe/Stockholm:20180505T180000
DTEND;TZID=Europe/Stockholm:20180506T000000
DTSTAMP:20260419T222835
CREATED:20180221T094209Z
LAST-MODIFIED:20180221T094209Z
UID:2751-1525543200-1525564800@hotellvillamaritime.se
SUMMARY:Afterwork med Inlands Bryggeri
DESCRIPTION:”Det goda består”
URL:https://hotellvillamaritime.se/evenemang/afterwork-med-inlands-bryggeri-2/
END:VEVENT
BEGIN:VEVENT
DTSTART;TZID=Europe/Stockholm:20180406T180000
DTEND;TZID=Europe/Stockholm:20180407T000000
DTSTAMP:20260419T222835
CREATED:20180221T093909Z
LAST-MODIFIED:20180221T094022Z
UID:2747-1523037600-1523059200@hotellvillamaritime.se
SUMMARY:Afterwork med Inlands Bryggeri
DESCRIPTION:”Det goda består”
URL:https://hotellvillamaritime.se/evenemang/afterwork-med-inlands-bryggeri/
END:VEVENT
BEGIN:VEVENT
DTSTART;TZID=Europe/Stockholm:20180402T170000
DTEND;TZID=Europe/Stockholm:20180402T230000
DTSTAMP:20260419T222835
CREATED:20180312T103911Z
LAST-MODIFIED:20180312T103911Z
UID:2767-1522688400-1522710000@hotellvillamaritime.se
SUMMARY:SS Martha\, Filmvisning och danskt gemyt
DESCRIPTION:Avsluta påskhelgen med filmvisning och danskt gemyt på Villa Maritime.\nFilm: SS Martha\nNär: 2 april (annandag påsk)\nTid: 17.00\nMat: Danskt smörrebröd\, O.P Anderson och en öl\, 250kr.
URL:https://hotellvillamaritime.se/evenemang/ss-martha-filmvisning-och-danskt-gemyt/
END:VEVENT
BEGIN:VEVENT
DTSTART;TZID=Europe/Stockholm:20180401T120000
DTEND;TZID=Europe/Stockholm:20180401T230000
DTSTAMP:20260419T222835
CREATED:20180315T124553Z
LAST-MODIFIED:20180315T124553Z
UID:2777-1522584000-1522623600@hotellvillamaritime.se
SUMMARY:Påskdagen
DESCRIPTION:Öppet för Påsklunch från kl 12 till 17 \nÖppet för Påskmiddag från kl 17
URL:https://hotellvillamaritime.se/evenemang/paskdagen/
END:VEVENT
BEGIN:VEVENT
DTSTART;TZID=Europe/Stockholm:20180331T120000
DTEND;TZID=Europe/Stockholm:20180331T230000
DTSTAMP:20260419T222835
CREATED:20180315T124459Z
LAST-MODIFIED:20180315T124459Z
UID:2775-1522497600-1522537200@hotellvillamaritime.se
SUMMARY:Påskafton
DESCRIPTION:Öppet för Påsklunch från kl 12 till 17 \nÖppet för Påskmiddag från kl 17
URL:https://hotellvillamaritime.se/evenemang/paskafton/
END:VEVENT
BEGIN:VEVENT
DTSTART;TZID=Europe/Stockholm:20180330T120000
DTEND;TZID=Europe/Stockholm:20180330T230000
DTSTAMP:20260419T222835
CREATED:20180315T123528Z
LAST-MODIFIED:20180315T123818Z
UID:2773-1522411200-1522450800@hotellvillamaritime.se
SUMMARY:Långfredag
DESCRIPTION:Öppet för Påsklunch från kl 12 till 17 \nÖppet för Påskmiddag från kl 17
URL:https://hotellvillamaritime.se/evenemang/langfredag/
END:VEVENT
BEGIN:VEVENT
DTSTART;TZID=Europe/Stockholm:20180329T170000
DTEND;TZID=Europe/Stockholm:20180329T170000
DTSTAMP:20260419T222835
CREATED:20180314T131506Z
LAST-MODIFIED:20180315T124733Z
UID:2771-1522342800-1522342800@hotellvillamaritime.se
SUMMARY:Libanesisk afton på Skärstorsdag
DESCRIPTION:Ni som missade vår Libanesiska afton på trettondagsafton\, den serveras åter på Skärtorsdagen. \nPris på ”Meze” 395 kr per person \nBord bokas här via vår hemsida eller slå en signal 0303 610 25
URL:https://hotellvillamaritime.se/evenemang/libanesisk-afton-pa-skarstorsdagen/
END:VEVENT
BEGIN:VEVENT
DTSTART;TZID=Europe/Stockholm:20180323T080000
DTEND;TZID=Europe/Stockholm:20180325T170000
DTSTAMP:20260419T222835
CREATED:20180126T102845Z
LAST-MODIFIED:20180126T102845Z
UID:2610-1521792000-1521997200@hotellvillamaritime.se
SUMMARY:Stickfest i Väst
DESCRIPTION:
URL:https://hotellvillamaritime.se/evenemang/stickfest-i-vast/
END:VEVENT
BEGIN:VEVENT
DTSTART;TZID=Europe/Stockholm:20180302T180000
DTEND;TZID=Europe/Stockholm:20180303T000000
DTSTAMP:20260419T222835
CREATED:20180126T102629Z
LAST-MODIFIED:20180126T102629Z
UID:2608-1520013600-1520035200@hotellvillamaritime.se
SUMMARY:Afterwork med Inlands Bryggeri och Live band
DESCRIPTION:Pubmeny och Live band \nVälkomna in för en härlig kväll! \n”Det goda består”
URL:https://hotellvillamaritime.se/evenemang/afterwork-med-inlands-bryggeri-och-live-band/
END:VEVENT
BEGIN:VEVENT
DTSTART;TZID=Europe/Stockholm:20180209T080000
DTEND;TZID=Europe/Stockholm:20180211T170000
DTSTAMP:20260419T222835
CREATED:20180126T142108Z
LAST-MODIFIED:20180126T142108Z
UID:2627-1518163200-1518368400@hotellvillamaritime.se
SUMMARY:BOKA VÅRT SKÄRGÅRDSPAKET
DESCRIPTION:SKÄRGÅRDSPAKET 2-4\, 9-11\, 16-18 FEBRUARI \nDetta ingår:\nEn övernattning i våra marina dubbelrum (lägenheter)\nUtsökt frukostbuffé…\nTidig incheckning och sen utcheckning\nVår supergoda Skärgårdsbuffé (serveras lör-sön kl 12-17)\nPRIS 1 500.- per rum \n\nSå här ser en skön helg ut i våra ögon:\nKom ut tidigt till ön\, checka in på ert rum. Promenera ett varv runt Marstrandsön eller strosa runt i gränderna – lika härligt på vintern som på sommaren!\nÄt Skärgårdsbuffén i vår mysigt ombonade restaurang\, med utsikt över havet. \nVälkomna ut till vår fina ö!
URL:https://hotellvillamaritime.se/evenemang/boka-vart-skargardspaket-2/
END:VEVENT
BEGIN:VEVENT
DTSTART;TZID=Europe/Stockholm:20180203T120000
DTEND;TZID=Europe/Stockholm:20180325T170000
DTSTAMP:20260419T222835
CREATED:20180131T110606Z
LAST-MODIFIED:20180131T110923Z
UID:2675-1517659200-1521997200@hotellvillamaritime.se
SUMMARY:Skärgårdsbuffé i Restaurang Storm\, Villa Maritime
DESCRIPTION:Välkommen att smaka vår utsökta Skärgårdsbuffé. \nEn härlig mix av Västkustens delikatesser. \nSillar\, räkor\, musslor\, pajer\, nybakat bröd och mycket annat gott. \nBästa läget med utsikt över gästhamnen och kajen inkluderar vi i priset. \nPris endast 239 kr \nServeras lördagar och söndagar mellan kl 12-17 \nBord bokas på 0303 610 25 \nVarmt Välkomna!
URL:https://hotellvillamaritime.se/evenemang/skargardsbuffe-restaurang-storm-villa-maritime/
END:VEVENT
BEGIN:VEVENT
DTSTART;TZID=Europe/Stockholm:20180202T080000
DTEND;TZID=Europe/Stockholm:20180204T170000
DTSTAMP:20260419T222835
CREATED:20180126T134715Z
LAST-MODIFIED:20180126T142505Z
UID:2624-1517558400-1517763600@hotellvillamaritime.se
SUMMARY:BOKA VÅRT SKÄRGÅRDSPAKET
DESCRIPTION:SKÄRGÅRDSPAKET 2-4\, 9-11\, 16-18 FEBRUARI \nDetta ingår:\nEn övernattning i våra marina dubbelrum (lägenheter)\nUtsökt frukostbuffé…\nTidig incheckning och sen utcheckning\nVår supergoda Skärgårdsbuffé (serveras lör-sön kl 12-17)\nPRIS 1 500.- per rum \n\nSå här ser en skön helg ut i våra ögon:\nKom ut tidigt till ön\, checka in på ert rum. Promenera ett varv runt Marstrandsön eller strosa runt i gränderna – lika härligt på vintern som på sommaren!\nÄt Skärgårdsbuffén i vår mysigt ombonade restaurang\, med utsikt över havet. \nVälkomna ut till vår fina ö!
URL:https://hotellvillamaritime.se/evenemang/boka-vart-skargardspaket/
END:VEVENT
END:VCALENDAR