BEGIN:VCALENDAR
VERSION:2.0
PRODID:-//Hotell Villa Maritime - Det trevliga hotellet på Marstrandsön - ECPv6.15.20//NONSGML v1.0//EN
CALSCALE:GREGORIAN
METHOD:PUBLISH
X-ORIGINAL-URL:https://hotellvillamaritime.se
X-WR-CALDESC:Events for Hotell Villa Maritime - Det trevliga hotellet på Marstrandsön
REFRESH-INTERVAL;VALUE=DURATION:PT1H
X-Robots-Tag:noindex
X-PUBLISHED-TTL:PT1H
BEGIN:VTIMEZONE
TZID:Europe/Stockholm
BEGIN:DAYLIGHT
TZOFFSETFROM:+0100
TZOFFSETTO:+0200
TZNAME:CEST
DTSTART:20160327T010000
END:DAYLIGHT
BEGIN:STANDARD
TZOFFSETFROM:+0200
TZOFFSETTO:+0100
TZNAME:CET
DTSTART:20161030T010000
END:STANDARD
BEGIN:DAYLIGHT
TZOFFSETFROM:+0100
TZOFFSETTO:+0200
TZNAME:CEST
DTSTART:20170326T010000
END:DAYLIGHT
BEGIN:STANDARD
TZOFFSETFROM:+0200
TZOFFSETTO:+0100
TZNAME:CET
DTSTART:20171029T010000
END:STANDARD
BEGIN:DAYLIGHT
TZOFFSETFROM:+0100
TZOFFSETTO:+0200
TZNAME:CEST
DTSTART:20180325T010000
END:DAYLIGHT
BEGIN:STANDARD
TZOFFSETFROM:+0200
TZOFFSETTO:+0100
TZNAME:CET
DTSTART:20181028T010000
END:STANDARD
END:VTIMEZONE
BEGIN:VEVENT
DTSTART;TZID=Europe/Stockholm:20170825T160000
DTEND;TZID=Europe/Stockholm:20170825T180000
DTSTAMP:20260420T035744
CREATED:20170823T131903Z
LAST-MODIFIED:20170823T131903Z
UID:2342-1503676800-1503684000@hotellvillamaritime.se
SUMMARY:PARTYPATRULLEN
DESCRIPTION:Spelar på vår bryggscen kl 16-18
URL:https://hotellvillamaritime.se/evenemang/partypatrullen-5/
END:VEVENT
BEGIN:VEVENT
DTSTART;TZID=Europe/Stockholm:20170825T080000
DTEND;TZID=Europe/Stockholm:20170827T170000
DTSTAMP:20260420T035744
CREATED:20170509T152813Z
LAST-MODIFIED:20170509T152813Z
UID:2201-1503648000-1503853200@hotellvillamaritime.se
SUMMARY:Marstrand Boat Show
DESCRIPTION:Båtmässan räknar med att få upp till 20 000 besökare.
URL:https://hotellvillamaritime.se/evenemang/marstrand-boat-show/
END:VEVENT
BEGIN:VEVENT
DTSTART;TZID=Europe/Stockholm:20170819T080000
DTEND;TZID=Europe/Stockholm:20170820T170000
DTSTAMP:20260420T035744
CREATED:20170509T152632Z
LAST-MODIFIED:20170509T152632Z
UID:2199-1503129600-1503248400@hotellvillamaritime.se
SUMMARY:Sekelskiftesdagarna
DESCRIPTION:
URL:https://hotellvillamaritime.se/evenemang/sekelskiftesdagarna/
END:VEVENT
BEGIN:VEVENT
DTSTART;TZID=Europe/Stockholm:20170812T080000
DTEND;TZID=Europe/Stockholm:20170812T170000
DTSTAMP:20260420T035744
CREATED:20170509T152040Z
LAST-MODIFIED:20170509T152040Z
UID:2195-1502524800-1502557200@hotellvillamaritime.se
SUMMARY:Swimrun
DESCRIPTION:
URL:https://hotellvillamaritime.se/evenemang/swimrun/
END:VEVENT
BEGIN:VEVENT
DTSTART;TZID=Europe/Stockholm:20170811T160000
DTEND;TZID=Europe/Stockholm:20170811T180000
DTSTAMP:20260420T035744
CREATED:20170705T112514Z
LAST-MODIFIED:20170705T112514Z
UID:2327-1502467200-1502474400@hotellvillamaritime.se
SUMMARY:Mega Boys
DESCRIPTION:Spelar på Bryggscenen
URL:https://hotellvillamaritime.se/evenemang/mega-boys-4/
END:VEVENT
BEGIN:VEVENT
DTSTART;TZID=Europe/Stockholm:20170810T080000
DTEND;TZID=Europe/Stockholm:20170813T170000
DTSTAMP:20260420T035744
CREATED:20170509T152446Z
LAST-MODIFIED:20170509T152446Z
UID:2197-1502352000-1502643600@hotellvillamaritime.se
SUMMARY:SM i Drake
DESCRIPTION:
URL:https://hotellvillamaritime.se/evenemang/sm-i-drake/
END:VEVENT
BEGIN:VEVENT
DTSTART;TZID=Europe/Stockholm:20170809T080000
DTEND;TZID=Europe/Stockholm:20170813T170000
DTSTAMP:20260420T035744
CREATED:20170509T151947Z
LAST-MODIFIED:20170509T151947Z
UID:2193-1502265600-1502643600@hotellvillamaritime.se
SUMMARY:RC44\, Seglingsregatta
DESCRIPTION:
URL:https://hotellvillamaritime.se/evenemang/rc44-seglingsregatta/
END:VEVENT
BEGIN:VEVENT
DTSTART;TZID=Europe/Stockholm:20170806T160000
DTEND;TZID=Europe/Stockholm:20170806T180000
DTSTAMP:20260420T035744
CREATED:20170705T112050Z
LAST-MODIFIED:20170705T112344Z
UID:2323-1502035200-1502042400@hotellvillamaritime.se
SUMMARY:Partypatrullen
DESCRIPTION:Värd Spendrups
URL:https://hotellvillamaritime.se/evenemang/partypatrullen-2/
END:VEVENT
BEGIN:VEVENT
DTSTART;TZID=Europe/Stockholm:20170805T160000
DTEND;TZID=Europe/Stockholm:20170805T180000
DTSTAMP:20260420T035744
CREATED:20170705T111951Z
LAST-MODIFIED:20170705T111951Z
UID:2321-1501948800-1501956000@hotellvillamaritime.se
SUMMARY:Mega Boys
DESCRIPTION:Spelar på Bryggscenen
URL:https://hotellvillamaritime.se/evenemang/mega-boys-3/
END:VEVENT
BEGIN:VEVENT
DTSTART;TZID=Europe/Stockholm:20170804T160000
DTEND;TZID=Europe/Stockholm:20170804T180000
DTSTAMP:20260420T035744
CREATED:20170705T111839Z
LAST-MODIFIED:20170705T111839Z
UID:2319-1501862400-1501869600@hotellvillamaritime.se
SUMMARY:Mega Boys
DESCRIPTION:Spelar på Bryggscenen
URL:https://hotellvillamaritime.se/evenemang/mega-boys-2/
END:VEVENT
BEGIN:VEVENT
DTSTART;TZID=Europe/Stockholm:20170729T160000
DTEND;TZID=Europe/Stockholm:20170729T180000
DTSTAMP:20260420T035744
CREATED:20170705T105802Z
LAST-MODIFIED:20170705T105802Z
UID:2314-1501344000-1501351200@hotellvillamaritime.se
SUMMARY:Mega Boys
DESCRIPTION:
URL:https://hotellvillamaritime.se/evenemang/mega-boys/
END:VEVENT
BEGIN:VEVENT
DTSTART;TZID=Europe/Stockholm:20170728T160000
DTEND;TZID=Europe/Stockholm:20170728T180000
DTSTAMP:20260420T035744
CREATED:20170705T105052Z
LAST-MODIFIED:20170705T111136Z
UID:2312-1501257600-1501264800@hotellvillamaritime.se
SUMMARY:Sir Toby
DESCRIPTION:Spelar på Bryggscenen
URL:https://hotellvillamaritime.se/evenemang/sir-toby/
END:VEVENT
BEGIN:VEVENT
DTSTART;TZID=Europe/Stockholm:20170727T080000
DTEND;TZID=Europe/Stockholm:20170727T170000
DTSTAMP:20260420T035744
CREATED:20170509T151827Z
LAST-MODIFIED:20170509T151827Z
UID:2191-1501142400-1501174800@hotellvillamaritime.se
SUMMARY:Badjävlar på Socitetshuset
DESCRIPTION:
URL:https://hotellvillamaritime.se/evenemang/badjavlar-pa-socitetshuset/
END:VEVENT
BEGIN:VEVENT
DTSTART;TZID=Europe/Stockholm:20170723T160000
DTEND;TZID=Europe/Stockholm:20170723T180000
DTSTAMP:20260420T035744
CREATED:20170721T111357Z
LAST-MODIFIED:20170721T111357Z
UID:2333-1500825600-1500832800@hotellvillamaritime.se
SUMMARY:Partypatrullen
DESCRIPTION:Partypatrullen underhåller söndag kl 16-18 på Villa Maritime och Restaurang Storms Brygga!
URL:https://hotellvillamaritime.se/evenemang/partypatrullen-4/
END:VEVENT
BEGIN:VEVENT
DTSTART;TZID=Europe/Stockholm:20170723T160000
DTEND;TZID=Europe/Stockholm:20170723T180000
DTSTAMP:20260420T035744
CREATED:20170705T104834Z
LAST-MODIFIED:20170705T104953Z
UID:2308-1500825600-1500832800@hotellvillamaritime.se
SUMMARY:Partypatrullen
DESCRIPTION:Värdar: Bergs konditori och Lasse-Maja krog
URL:https://hotellvillamaritime.se/evenemang/partypatrullen/
END:VEVENT
BEGIN:VEVENT
DTSTART;TZID=Europe/Stockholm:20170722T160000
DTEND;TZID=Europe/Stockholm:20170722T180000
DTSTAMP:20260420T035744
CREATED:20170705T104558Z
LAST-MODIFIED:20170705T112222Z
UID:2306-1500739200-1500746400@hotellvillamaritime.se
SUMMARY:All Yours
DESCRIPTION:Spelar på Bryggscenen
URL:https://hotellvillamaritime.se/evenemang/all-yours/
END:VEVENT
BEGIN:VEVENT
DTSTART;TZID=Europe/Stockholm:20170715T160000
DTEND;TZID=Europe/Stockholm:20170715T180000
DTSTAMP:20260420T035744
CREATED:20170705T104312Z
LAST-MODIFIED:20170705T111721Z
UID:2304-1500134400-1500141600@hotellvillamaritime.se
SUMMARY:Prime
DESCRIPTION:Spelar på Bryggscenen
URL:https://hotellvillamaritime.se/evenemang/prime/
END:VEVENT
BEGIN:VEVENT
DTSTART;TZID=Europe/Stockholm:20170714T160000
DTEND;TZID=Europe/Stockholm:20170714T180000
DTSTAMP:20260420T035744
CREATED:20170705T103456Z
LAST-MODIFIED:20170705T103456Z
UID:2302-1500048000-1500055200@hotellvillamaritime.se
SUMMARY:Rock & Roll på Bryggscenen
DESCRIPTION:
URL:https://hotellvillamaritime.se/evenemang/rock-roll-pa-bryggscenen/
END:VEVENT
BEGIN:VEVENT
DTSTART;TZID=Europe/Stockholm:20170710T080000
DTEND;TZID=Europe/Stockholm:20170715T170000
DTSTAMP:20260420T035744
CREATED:20170509T151416Z
LAST-MODIFIED:20170509T151416Z
UID:2189-1499673600-1500138000@hotellvillamaritime.se
SUMMARY:VM i M32 (Fleetrace)
DESCRIPTION:
URL:https://hotellvillamaritime.se/evenemang/vm-m32-fleetrace/
END:VEVENT
BEGIN:VEVENT
DTSTART;TZID=Europe/Stockholm:20170708T160000
DTEND;TZID=Europe/Stockholm:20170708T180000
DTSTAMP:20260420T035744
CREATED:20170705T103123Z
LAST-MODIFIED:20170705T103123Z
UID:2300-1499529600-1499536800@hotellvillamaritime.se
SUMMARY:Aftersail med Partypatrullen
DESCRIPTION:
URL:https://hotellvillamaritime.se/evenemang/aftersail-med-partypatrullen-2/
END:VEVENT
BEGIN:VEVENT
DTSTART;TZID=Europe/Stockholm:20170707T160000
DTEND;TZID=Europe/Stockholm:20170707T180000
DTSTAMP:20260420T035744
CREATED:20170705T102327Z
LAST-MODIFIED:20170705T102327Z
UID:2298-1499443200-1499450400@hotellvillamaritime.se
SUMMARY:Aftersail med Partypatrullen
DESCRIPTION:Värdar är Udéns Sport och Villa Maritime
URL:https://hotellvillamaritime.se/evenemang/aftersail-med-partypatrullen/
END:VEVENT
BEGIN:VEVENT
DTSTART;TZID=Europe/Stockholm:20170706T080000
DTEND;TZID=Europe/Stockholm:20170812T170000
DTSTAMP:20260420T035744
CREATED:20170509T150955Z
LAST-MODIFIED:20170509T150955Z
UID:2185-1499328000-1502557200@hotellvillamaritime.se
SUMMARY:Stefan Andersson no.90 Kleist
DESCRIPTION:Carlstens Fästning.
URL:https://hotellvillamaritime.se/evenemang/stefan-andersson-no-90-kleist/
END:VEVENT
BEGIN:VEVENT
DTSTART;TZID=Europe/Stockholm:20170704T080000
DTEND;TZID=Europe/Stockholm:20170707T170000
DTSTAMP:20260420T035744
CREATED:20170509T151242Z
LAST-MODIFIED:20170509T151242Z
UID:2187-1499155200-1499446800@hotellvillamaritime.se
SUMMARY:Junior Cup
DESCRIPTION:Ungdomssegling
URL:https://hotellvillamaritime.se/evenemang/junior-cup/
END:VEVENT
BEGIN:VEVENT
DTSTART;TZID=Europe/Stockholm:20170703T080000
DTEND;TZID=Europe/Stockholm:20170708T170000
DTSTAMP:20260420T035744
CREATED:20170319T171157Z
LAST-MODIFIED:20170319T180749Z
UID:1707-1499068800-1499533200@hotellvillamaritime.se
SUMMARY:GKSS Match Cup Sweden 2017
DESCRIPTION:Världscupen i matchracing återvänder till Marstrand 3-8 juli. Upplev folkfesten på land och följ fartfyllda dueller på världens främsta seglingsarena. \nVecka 27 samlas tusentals gäster årligen på Marstrand för att välkomna världens bästa matchracingseglare och se dem göra upp i gastkramande dueller. Sedan starten 1994 har tävlingen blivit en klassisk del av sommaren på västkusten och Match Cup Sweden omnämns ofta som ett av världens främsta seglingsevenemang. \nFör andra året i rad avgörs tävlingen med toppmoderna M32-katamaraner och under veckan erbjuds en mängd olika aktiviteter för alla besökare. Förutom segling finns möjligheten att äta god mat och ta del av aktiviteter som evenemangets sponsorer har att erbjuda samt att bli en del av den gemenskap som bildas kring evenemanget.\nGKSS Match Cup Sweden ingår som en deltävling i World Match Racing Tour som avgörs med final i Kina i november. Foto: Dan Ljungsvik 
URL:https://hotellvillamaritime.se/evenemang/gkss-match-cup-sweden-2017/
CATEGORIES:Segling
ATTACH;FMTTYPE=image/jpeg:https://hotellvillamaritime.se/wp-content/uploads/2017/03/match-cup-sweden.jpg
END:VEVENT
BEGIN:VEVENT
DTSTART;TZID=Europe/Stockholm:20170628T200000
DTEND;TZID=Europe/Stockholm:20170819T213000
DTSTAMP:20260420T035744
CREATED:20170304T154259Z
LAST-MODIFIED:20170318T164848Z
UID:663-1498680000-1503178200@hotellvillamaritime.se
SUMMARY:Pianobar med Julie Rosburger
DESCRIPTION:Med sin underbara röst kommer Julie besöka oss varje kväll under sommaren på Restaurang Storm. Så önskar du njuta av god mat & en underbar sångerska så är du hjärtlig välkommen till oss! \nFri entré
URL:https://hotellvillamaritime.se/evenemang/pianobar-med-julie-rosburger/
LOCATION:Hotell Villa Maritime\, Hamngatan 35\, Marstrand\, Sverige
CATEGORIES:Musik
ATTACH;FMTTYPE=image/jpeg:https://hotellvillamaritime.se/wp-content/uploads/2017/03/julie.jpg
END:VEVENT
BEGIN:VEVENT
DTSTART;TZID=Europe/Stockholm:20170617T080000
DTEND;TZID=Europe/Stockholm:20170618T170000
DTSTAMP:20260420T035744
CREATED:20170509T150730Z
LAST-MODIFIED:20170509T150730Z
UID:2183-1497686400-1497805200@hotellvillamaritime.se
SUMMARY:Apply Emtunga Cup
DESCRIPTION:En regatta för båtar som: \nC55\, Drake och SM i Melges24
URL:https://hotellvillamaritime.se/evenemang/apply-emtunga-cup/
END:VEVENT
BEGIN:VEVENT
DTSTART;TZID=Europe/Stockholm:20170603T170000
DTEND;TZID=Europe/Stockholm:20170603T190000
DTSTAMP:20260420T035744
CREATED:20170526T081536Z
LAST-MODIFIED:20170526T081536Z
UID:2234-1496509200-1496516400@hotellvillamaritime.se
SUMMARY:ROCKIG AFTER SAIL MED PRIME
DESCRIPTION:
URL:https://hotellvillamaritime.se/evenemang/rockig-sail-med-prime/
END:VEVENT
BEGIN:VEVENT
DTSTART;TZID=Europe/Stockholm:20170603T080000
DTEND;TZID=Europe/Stockholm:20170604T170000
DTSTAMP:20260420T035744
CREATED:20170509T150349Z
LAST-MODIFIED:20170509T150349Z
UID:2181-1496476800-1496595600@hotellvillamaritime.se
SUMMARY:Sillens Helg
DESCRIPTION:
URL:https://hotellvillamaritime.se/evenemang/sillens-helg-2/
END:VEVENT
BEGIN:VEVENT
DTSTART;VALUE=DATE:20170526
DTEND;VALUE=DATE:20170529
DTSTAMP:20260420T035744
CREATED:20170504T084803Z
LAST-MODIFIED:20170504T084803Z
UID:2153-1495756800-1496015999@hotellvillamaritime.se
SUMMARY:Marstrand Big Boat Race
DESCRIPTION:Härlig regatta med 65-85 segelbåtar i olika klasser.
URL:https://hotellvillamaritime.se/evenemang/marstrand-big-boat-race/
END:VEVENT
BEGIN:VEVENT
DTSTART;TZID=Europe/Stockholm:20170324T160000
DTEND;TZID=Europe/Stockholm:20170326T160000
DTSTAMP:20260420T035744
CREATED:20170322T224224Z
LAST-MODIFIED:20170322T224714Z
UID:1761-1490371200-1490544000@hotellvillamaritime.se
SUMMARY:ABONNERAT StickFestiVäst fre till sön
DESCRIPTION:”Stickfest i Väst 2017”\n24-26 mars 2017 på Villa Maritime\, Marstrand.\nStickfest i Väst 2017 är fullbokat på mat/logi-paket. Det finns fortfarande några workshops kvar på ett par kurser.\nVill du komma som dagsbesökare så är det helt fullbokat på lördagen\, men det finns fortfarande möjligt att anmäla sig till söndagen – till såväl lunch som att bara komma på besök.\nFrågor ställer du antingen till info@stickfestivast.se eller direkt i FB-gruppen som heter: Stickfest i Väst.
URL:https://hotellvillamaritime.se/evenemang/abonnerat-stickfestivast-fer-till-son/
LOCATION:Hotell Villa Maritime\, Hamngatan 35\, Marstrand\, Sverige
ATTACH;FMTTYPE=image/png:https://hotellvillamaritime.se/wp-content/uploads/2017/03/Skärmavbild-2017-03-22-kl.-14.35.49.png
END:VEVENT
END:VCALENDAR